BEGIN:VCALENDAR
VERSION:2.0
PRODID:-//SportPlan//Event Calendar//EN
CALSCALE:GREGORIAN
BEGIN:VEVENT
UID:8b0182a6-d2aa-4aec-91e9-e5b3c79869d6@sportplan.local
DTSTAMP:20260426T005311Z
DTSTART;VALUE=DATE:20260920
DTEND;VALUE=DATE:20260921
SUMMARY:Dublin Half Marathon
DESCRIPTION:The official Irish Life Dublin Marathon event page presents the Dublin Half Marathon as a flagship Dublin road race that takes runners through recognisable city streets and landmarks\, combining flatter sections with some challenging climbs.
LOCATION:Phoenix Park\, Dublin\, Ireland
URL:https://sportplan.vercel.app/da/events/dublin-half-marathon-2026-09-20
END:VEVENT
END:VCALENDAR
