BEGIN:VCALENDAR
VERSION:2.0
PRODID:-//SportPlan//Event Calendar//EN
CALSCALE:GREGORIAN
BEGIN:VEVENT
UID:2b237a1b-2e71-4356-accc-ef87ebab4e9f@sportplan.local
DTSTAMP:20260425T200326Z
DTSTART;VALUE=DATE:20260215
DTEND;VALUE=DATE:20260216
SUMMARY:Duatlón Cross de Alcobendas 2026
DESCRIPTION:Duatlón Cross de Alcobendas 2026 is an amateur cross duathlon in Alcobendas\, Madrid on 15 February 2026. The official organizer domain duatlonalcobendas.com is the participant-facing source for event information and registration updates.
LOCATION:Alcobendas\, Madrid
URL:https://sportplan.vercel.app/da/events/duatl-n-cross-de-alcobendas-2026-alcobendas-2026-02-15
END:VEVENT
END:VCALENDAR
