BEGIN:VCALENDAR
VERSION:2.0
PRODID:-//SportPlan//Event Calendar//EN
CALSCALE:GREGORIAN
BEGIN:VEVENT
UID:d6a0fdd9-32b0-4f82-8212-294299537777@sportplan.local
DTSTAMP:20260426T005824Z
DTSTART;VALUE=DATE:20260919
DTEND;VALUE=DATE:20260920
SUMMARY:dm ženský beh 2026
DESCRIPTION:dm ženský beh 2026 is an official amateur women-focused running event in Bratislava\, Slovakia on 19 September 2026. The official organizer page states that the race will celebrate its 14th edition in central Bratislava and is one of the largest women’s running events in Slovakia\, with multiple participation formats listed on the official event sections and registration handled via the organizer’s official platform.
LOCATION:Bratislava
URL:https://sportplan.vercel.app/da/events/dm-zensky-beh-2026-bratislava-2026-09-19
END:VEVENT
END:VCALENDAR
