BEGIN:VCALENDAR
VERSION:2.0
PRODID:-//SportPlan//Event Calendar//EN
CALSCALE:GREGORIAN
BEGIN:VEVENT
UID:a2b129c0-241d-4c0b-b39f-ae74328a372c@sportplan.local
DTSTAMP:20260425T231855Z
DTSTART;VALUE=DATE:20260501
DTEND;VALUE=DATE:20260502
SUMMARY:Daugavas kauss
DESCRIPTION:Official Latvian Orienteering Federation calendar lists Daugavas kauss on 1 May 2026 in Robežkrogs\, Ogres novads and links the OK Ogre organizer site plus LOF registration page for participant entry.
LOCATION:Robežkrogs\, Ogres nov.
URL:https://sportplan.vercel.app/da/events/daugavas-kauss-robezkrogs-ogres-novads-2026-05-01
END:VEVENT
END:VCALENDAR
