BEGIN:VCALENDAR
VERSION:2.0
PRODID:-//SportPlan//Event Calendar//EN
CALSCALE:GREGORIAN
BEGIN:VEVENT
UID:501a8f40-56bc-45a3-bc91-a510a1d2594f@sportplan.local
DTSTAMP:20260425T213339Z
DTSTART;VALUE=DATE:20260426
DTEND;VALUE=DATE:20260427
SUMMARY:Cursa Montilivi Girona — 5K
DESCRIPTION:Cursa Montilivi Girona — 5K is part of the official Cursa Montilivi race day on Sunday 26 April 2026 in Girona. The organiser presents it as a timed 5 km solidarity race from the Fundació Guardiola Sala\, with a mixed route of asphalt\, dirt and climbs and a finish inside Girona FC’s Montilivi stadium.
LOCATION:Montilivi
URL:https://sportplan.vercel.app/da/events/cursa-montilivi-girona-5k-montilivi-2026-04-26
END:VEVENT
END:VCALENDAR
