BEGIN:VCALENDAR
VERSION:2.0
PRODID:-//SportPlan//Event Calendar//EN
CALSCALE:GREGORIAN
BEGIN:VEVENT
UID:9eafd571-d82e-47bd-8419-bf8295759334@sportplan.local
DTSTAMP:20260425T214258Z
DTSTART;VALUE=DATE:20260426
DTEND;VALUE=DATE:20260427
SUMMARY:Cursa Montilivi Girona — 10K
DESCRIPTION:Cursa Montilivi Girona — 10K is part of the official Cursa Montilivi race day on Sunday 26 April 2026 in Girona. The organiser presents it as a timed 10 km solidarity race from the Fundació Guardiola Sala\, with a mixed route of asphalt\, dirt and climbs and a finish inside Girona FC’s Montilivi stadium.
LOCATION:Montilivi
URL:https://sportplan.vercel.app/da/events/cursa-montilivi-girona-10k-montilivi-2026-04-26
END:VEVENT
END:VCALENDAR
