BEGIN:VCALENDAR
VERSION:2.0
PRODID:-//SportPlan//Event Calendar//EN
CALSCALE:GREGORIAN
BEGIN:VEVENT
UID:f044cd6d-c71a-4825-98d2-6b38e24b18ef@sportplan.local
DTSTAMP:20260425T214308Z
DTSTART;VALUE=DATE:20260419
DTEND;VALUE=DATE:20260420
SUMMARY:Cursa dels 10K d'Empúries
DESCRIPTION:Cursa dels 10K d'Empúries 2026 se correrá el domingo 19 de abril de 2026 dentro del programa oficial de la Marató d'Empúries en L'Escala - Empúries. La página oficial del Ajuntament de L'Escala programa esta prueba de 10 km para la mañana del domingo junto con la maratón y la media maratón.
LOCATION:l'Escala-Empúries\, Girona\, Cataluña
URL:https://sportplan.vercel.app/da/events/cursa-dels-10k-d-empuries-l-escala-empuries-2026-04-28-10k
END:VEVENT
END:VCALENDAR
