BEGIN:VCALENDAR
VERSION:2.0
PRODID:-//SportPlan//Event Calendar//EN
CALSCALE:GREGORIAN
BEGIN:VEVENT
UID:486bdb00-7f1f-43a3-9367-8aa226dc502a@sportplan.local
DTSTAMP:20260426T005654Z
DTSTART;VALUE=DATE:20260801
DTEND;VALUE=DATE:20260802
SUMMARY:CTP Half Slovakman 2026
DESCRIPTION:Official STÚ 2026 calendar lists CTP Half Slovakman\, Piešťany\, 2. ročník\, on 01.08.2026 as the national middle-distance championship and Slovak cup triathlon race.
LOCATION:Piešťany\, Slovakia
URL:https://sportplan.vercel.app/da/events/ctp-half-slovakman-2026-2026-08-01
END:VEVENT
END:VCALENDAR
