BEGIN:VCALENDAR
VERSION:2.0
PRODID:-//SportPlan//Event Calendar//EN
CALSCALE:GREGORIAN
BEGIN:VEVENT
UID:515a990d-4621-48d1-9b9f-315047980715@sportplan.local
DTSTAMP:20260425T232630Z
DTSTART;VALUE=DATE:20261004
DTEND;VALUE=DATE:20261005
SUMMARY:Crete Half Marathon
DESCRIPTION:Crete Half Marathon 2026 is the official International Crete Half Marathon in Arkalochori\, Heraklion on Sunday 4 October 2026. The organizer site confirms the programme includes the half marathon\, 10 km\, 5 km\, a 1000 m children's race\, and a 200 m race for athletes with disabilities.
LOCATION:Greece
URL:https://sportplan.vercel.app/da/events/crete-half-marathon-2026-10-04
END:VEVENT
END:VCALENDAR
