BEGIN:VCALENDAR
VERSION:2.0
PRODID:-//SportPlan//Event Calendar//EN
CALSCALE:GREGORIAN
BEGIN:VEVENT
UID:e5791403-26fb-4b51-b9ae-f353484f96ce@sportplan.local
DTSTAMP:20260425T233548Z
DTSTART;VALUE=DATE:20260719
DTEND;VALUE=DATE:20260720
SUMMARY:Course sur Route Rabat 10K / 5K / Mile 2026
DESCRIPTION:Official FRMA 2025-2026 national competition calendar lists on 19 Juillet 2026 a road-running event in Rabat: 'COURSE SUR ROUTE (10KMS - 5KMS - MARCHE / MILE) N°1'. Federation calendar used as canonical source family. Marked medium-confidence amateur-enterable because the race format is public-facing road running with all categories\, though no standalone registration page was surfaced in this pass.
LOCATION:Rabat
URL:https://sportplan.vercel.app/da/events/course-sur-route-rabat-10k-5k-mile-2026-2026-07-19
END:VEVENT
END:VCALENDAR
