BEGIN:VCALENDAR
VERSION:2.0
PRODID:-//SportPlan//Event Calendar//EN
CALSCALE:GREGORIAN
BEGIN:VEVENT
UID:8feea58c-c654-421b-a074-1b063b9e10e9@sportplan.local
DTSTAMP:20260425T232226Z
DTSTART;VALUE=DATE:20260502
DTEND;VALUE=DATE:20260503
SUMMARY:CISK 0.0 XCO Series 2026 - Race 2
DESCRIPTION:CISK 0.0 XCO Series 2026 - Race 2 is an official amateur cross-country mountain bike race at Majjistral Park\, Malta\, on 2 May 2026\, published on the Malta Mountain Bike Association event-detail page.
LOCATION:Majjistral Park\, Malta
URL:https://sportplan.vercel.app/da/events/cisk-0-0-xco-series-2026-race-2-majjistral-park-2026-05-02
END:VEVENT
END:VCALENDAR
