BEGIN:VCALENDAR
VERSION:2.0
PRODID:-//SportPlan//Event Calendar//EN
CALSCALE:GREGORIAN
BEGIN:VEVENT
UID:b24551eb-b707-460e-b963-2bb85653a222@sportplan.local
DTSTAMP:20260425T200404Z
DTSTART;VALUE=DATE:20260222
DTEND;VALUE=DATE:20260223
SUMMARY:Circuito 4 Desafíos - Trail del Cocido 22K
DESCRIPTION:
LOCATION:Robledo de Chavela\, Madrid\, Comunidad de Madrid
URL:https://sportplan.vercel.app/da/events/circuito-4-desafios-trail-del-cocido-22k-robledo-de-chavela-2026-02-22-22k
END:VEVENT
END:VCALENDAR
