BEGIN:VCALENDAR
VERSION:2.0
PRODID:-//SportPlan//Event Calendar//EN
CALSCALE:GREGORIAN
BEGIN:VEVENT
UID:eff68357-6c46-4f69-817f-3f5a9ca49025@sportplan.local
DTSTAMP:20260425T225706Z
DTSTART;VALUE=DATE:20260725
DTEND;VALUE=DATE:20260727
SUMMARY:Challenge Turku
DESCRIPTION:Challenge Turku 2026 is an official amateur-enterable triathlon weekend in Turku\, Finland on 25-26 July 2026. The official organizer homepage shows a 25-26 July 2026 event weekend and links directly to the active race entry page\, while the official time-schedule page confirms Saturday and Sunday programming.
LOCATION:Turku\, Finland
URL:https://sportplan.vercel.app/da/events/challenge-turku-2026-07-26
END:VEVENT
END:VCALENDAR
