BEGIN:VCALENDAR
VERSION:2.0
PRODID:-//SportPlan//Event Calendar//EN
CALSCALE:GREGORIAN
BEGIN:VEVENT
UID:9c7caef9-7027-43ef-a01b-deb0188910dc@sportplan.local
DTSTAMP:20260425T212434Z
DTSTART;VALUE=DATE:20260412
DTEND;VALUE=DATE:20260413
SUMMARY:Cassovia Duatlon 2026
DESCRIPTION:Official STÚ results page says the traditional Cassovia Duatlon took place on Saturday 12.04.2026 and references a broad field of competitors from across Slovakia.
LOCATION:Košice\, Slovakia
URL:https://sportplan.vercel.app/da/events/cassovia-duatlon-2026-2026-04-12
END:VEVENT
END:VCALENDAR
