BEGIN:VCALENDAR
VERSION:2.0
PRODID:-//SportPlan//Event Calendar//EN
CALSCALE:GREGORIAN
BEGIN:VEVENT
UID:9fc7df8c-1cec-4d66-a343-261d5d7df540@sportplan.local
DTSTAMP:20260425T200209Z
DTSTART;VALUE=DATE:20260421
DTEND;VALUE=DATE:20260422
SUMMARY:Carrera Popular el Coronil
DESCRIPTION:Carrera Popular el Coronil 2026 uses the organizer-maintained event blog as its official participant-facing website. The dedicated XXII Carrera Popular El Coronil 2026 announcement post provides the canonical event page and official race poster image.
LOCATION:El Coronil\, Sevilla\, Andalucía
URL:https://sportplan.vercel.app/da/events/carrera-popular-el-coronil-el-coronil-2026-04-21-9-75k
END:VEVENT
END:VCALENDAR
