BEGIN:VCALENDAR
VERSION:2.0
PRODID:-//SportPlan//Event Calendar//EN
CALSCALE:GREGORIAN
BEGIN:VEVENT
UID:52a00d18-677f-4966-b8fc-3471d74f123f@sportplan.local
DTSTAMP:20260426T011655Z
DTSTART;VALUE=DATE:20261027
DTEND;VALUE=DATE:20261031
SUMMARY:Cape To Cape MTB 4-Day 2026
DESCRIPTION:Cape to Cape is a 4 day Mountain Bike Stage Race held in Margaret River WA\, and is Australasia’s longest running and biggest mountain bike multi-stage endurance race.
LOCATION:Margaret River\, Western Australia
URL:https://sportplan.vercel.app/da/events/cape-to-cape-mtb-4-day-2026-margaret-river-2026-10-27
END:VEVENT
END:VCALENDAR
