BEGIN:VCALENDAR
VERSION:2.0
PRODID:-//SportPlan//Event Calendar//EN
CALSCALE:GREGORIAN
BEGIN:VEVENT
UID:7e33a00b-8d57-4b3c-9d2b-a099aea303ef@sportplan.local
DTSTAMP:20260425T231957Z
DTSTART;VALUE=DATE:20260321
DTEND;VALUE=DATE:20260323
SUMMARY:Campeonato Ibérico Masculino – XIX Trofeo Quijotes
DESCRIPTION:El Campeonato Ibérico Masculino – XIX Trofeo Quijotes figura en el calendario oficial 2026 de la FEDO para el 21-22 de marzo en Boniches\, Cañete y Campillos-Sierra (Cuenca)\, integrado como 3ª Liga Española Sprint. Es una cita oficial de orientación a pie con fin de semana competitivo y sedes confirmadas por la federación.
LOCATION:Boniches
URL:https://sportplan.vercel.app/da/events/campeonato-iberico-masculino-xix-trofeo-quijotes
END:VEVENT
END:VCALENDAR
