BEGIN:VCALENDAR
VERSION:2.0
PRODID:-//SportPlan//Event Calendar//EN
CALSCALE:GREGORIAN
BEGIN:VEVENT
UID:c14f2e2a-102c-4510-bb99-fe292b3190e1@sportplan.local
DTSTAMP:20260425T200100Z
DTSTART;VALUE=DATE:20260315
DTEND;VALUE=DATE:20260316
SUMMARY:Caminada Popular Hostalets de Balenyà
DESCRIPTION:
LOCATION:Hostalets de Balenyà\, Barcelona
URL:https://sportplan.vercel.app/da/events/caminada-popular-hostalets-de-baleny-hostalets-de-baleny-2026-03-15
END:VEVENT
END:VCALENDAR
