BEGIN:VCALENDAR
VERSION:2.0
PRODID:-//SportPlan//Event Calendar//EN
CALSCALE:GREGORIAN
BEGIN:VEVENT
UID:81f27c07-f6da-4704-bf41-7fd039f20f38@sportplan.local
DTSTAMP:20260426T030537Z
DTSTART;VALUE=DATE:20260814
DTEND;VALUE=DATE:20260817
SUMMARY:BYD HYROX Bangkok 2026
DESCRIPTION:BYD HYROX Bangkok 2026 is the official HYROX Bangkok race weekend\, scheduled from 14 to 16 August 2026 in Bangkok\, Thailand. The organizer-owned HYROX event page presents the amateur-enterable fitness race format with solo\, doubles\, and relay participation options.
LOCATION:Bangkok\, Thailand
URL:https://sportplan.vercel.app/da/events/byd-hyrox-bangkok-2026-2026-08-14
END:VEVENT
END:VCALENDAR
