BEGIN:VCALENDAR
VERSION:2.0
PRODID:-//SportPlan//Event Calendar//EN
CALSCALE:GREGORIAN
BEGIN:VEVENT
UID:96eb6361-12c3-46cb-a9b6-48660b3be276@sportplan.local
DTSTAMP:20260426T030359Z
DTSTART;VALUE=DATE:20261004
DTEND;VALUE=DATE:20261005
SUMMARY:Brussels Marathon 2026
DESCRIPTION:Brussels Marathon 2026 a lieu à Brussels\, Brussels le 4 octobre 2026\, offrant aux coureurs une belle occasion de profiter d’une ambiance sportive soignée dans BE. La distance annoncée est de 42.2 km\, un format idéal pour les coureurs en quête d’un défi clair et d’une belle journée de course. L’événement s’adresse aussi bien aux athlètes réguliers qu’aux participants motivés en quête d’une expérience stimulante.
LOCATION:Brussels\, Brussels
URL:https://sportplan.vercel.app/da/events/brussels-marathon-2026-brussels-2026-10-04
END:VEVENT
END:VCALENDAR
