BEGIN:VCALENDAR
VERSION:2.0
PRODID:-//SportPlan//Event Calendar//EN
CALSCALE:GREGORIAN
BEGIN:VEVENT
UID:035fb05b-6e7c-46e9-bdca-6e6fe725335f@sportplan.local
DTSTAMP:20260425T193807Z
DTSTART;VALUE=DATE:20260425
DTEND;VALUE=DATE:20260426
SUMMARY:Björn Borg Helsinki10
DESCRIPTION:Björn Borg Helsinki10 is an open 10 km road race in central Helsinki on 25 April 2026.
LOCATION:Helsinki\, Finland
URL:https://sportplan.vercel.app/da/events/bjorn-borg-helsinki10-2026-04-25
END:VEVENT
END:VCALENDAR
