BEGIN:VCALENDAR
VERSION:2.0
PRODID:-//SportPlan//Event Calendar//EN
CALSCALE:GREGORIAN
BEGIN:VEVENT
UID:9d741f1f-0d4b-4b08-951e-922d1ed11993@sportplan.local
DTSTAMP:20260425T231835Z
DTSTART;VALUE=DATE:20260509
DTEND;VALUE=DATE:20260510
SUMMARY:Bikes & Beers Stratford
DESCRIPTION:
LOCATION:Stratford
URL:https://sportplan.vercel.app/da/events/bikes-beers-stratford-stratford-2026-05-09
END:VEVENT
END:VCALENDAR
