BEGIN:VCALENDAR
VERSION:2.0
PRODID:-//SportPlan//Event Calendar//EN
CALSCALE:GREGORIAN
BEGIN:VEVENT
UID:e8e451ba-eb87-452b-96b1-fe740ed90116@sportplan.local
DTSTAMP:20260425T212150Z
DTSTART;VALUE=DATE:20260502
DTEND;VALUE=DATE:20260503
SUMMARY:BIKE MARATHON GARDA TRENTINO 2026
DESCRIPTION:FCI detail page 178757 lists Fuoristrada\, XCM Marathon CL1\, with categories including Master M/F and UCI-foreseen fields. Exact-title and official-URL Supabase checks returned no matches\; approximate 'Garda Trentino' query only found unrelated Garda Trentino Trail.
LOCATION:Riva del Garda (TN)
URL:https://sportplan.vercel.app/da/events/bike-marathon-garda-trentino-2026-riva-del-garda-2026-05-02
END:VEVENT
END:VCALENDAR
