BEGIN:VCALENDAR
VERSION:2.0
PRODID:-//SportPlan//Event Calendar//EN
CALSCALE:GREGORIAN
BEGIN:VEVENT
UID:9a58d54c-953c-42eb-9001-f4a973146279@sportplan.local
DTSTAMP:20260425T232236Z
DTSTART;VALUE=DATE:20260509
DTEND;VALUE=DATE:20260510
SUMMARY:Bike City Fondo
DESCRIPTION:Bike City Fondo takes place in Fayetteville on May 9\, 2026\, bringing runners together for a memorable race-day atmosphere. Whether you're aiming for a personal best or simply want to enjoy the course\, this event offers a motivating experience in Fayetteville.
LOCATION:Fayetteville
URL:https://sportplan.vercel.app/da/events/bike-city-fondo-fayetteville-2026-05-09
END:VEVENT
END:VCALENDAR
