BEGIN:VCALENDAR
VERSION:2.0
PRODID:-//SportPlan//Event Calendar//EN
CALSCALE:GREGORIAN
BEGIN:VEVENT
UID:9073245e-cdf2-44c1-a4c7-f579dd83325d@sportplan.local
DTSTAMP:20260425T195011Z
DTSTART;VALUE=DATE:20260425
DTEND;VALUE=DATE:20260426
SUMMARY:Bike and Run de Niffond - Varennes Vauzelles (58)
DESCRIPTION:Official FFTRI/T2Area fiche lists Bike and Run de Niffond - Varennes Vauzelles (58) in Varennes-Vauzelles\, Bourgogne-Franche-Comté on 25 April 2026\, with Jeunes 1\, Jeunes 2\, and XS bike-and-run formats organized by ASAV Triathlon.
LOCATION:Varennes-Vauzelles\, Bourgogne-Franche-Comté\, France
URL:https://sportplan.vercel.app/da/events/bike-and-run-de-niffond-varennes-vauzelles-58-2026-04-25
END:VEVENT
END:VCALENDAR
