BEGIN:VCALENDAR
VERSION:2.0
PRODID:-//SportPlan//Event Calendar//EN
CALSCALE:GREGORIAN
BEGIN:VEVENT
UID:aee80531-13fa-44d2-82c5-0582fba56c1a@sportplan.local
DTSTAMP:20260425T232048Z
DTSTART;VALUE=DATE:20260501
DTEND;VALUE=DATE:20260502
SUMMARY:Bike And Run Challenge Marcel Dourthe Larche
DESCRIPTION:Official FFTRI/T2Area fiche lists Challenge Marcel Dourthe Larche (40) in Lüe on 2026-05-01 and links the organizer website cdf-lue.com.
LOCATION:Lue
URL:https://sportplan.vercel.app/da/events/bike-and-run-challenge-marcel-dourthe-larche-lue-2026-05-01
END:VEVENT
END:VCALENDAR
