BEGIN:VCALENDAR
VERSION:2.0
PRODID:-//SportPlan//Event Calendar//EN
CALSCALE:GREGORIAN
BEGIN:VEVENT
UID:951337e6-0dcf-4db6-b71a-7bc9b4ef8003@sportplan.local
DTSTAMP:20260425T230807Z
DTSTART;VALUE=DATE:20260503
DTEND;VALUE=DATE:20260504
SUMMARY:Bespak Mini Gear
DESCRIPTION:Bespak Mini Gear takes place in Norfolk on May 3\, 2026\, offering participants a great chance to enjoy the atmosphere of race day in this destination. The route distance is to be confirmed. Expect an energizing event environment\, local support on site\, and a course suited to both dedicated runners and motivated newcomers.
LOCATION:Norfolk
URL:https://sportplan.vercel.app/da/events/bespak-mini-gear-norfolk-2026-05-03
END:VEVENT
END:VCALENDAR
