BEGIN:VCALENDAR
VERSION:2.0
PRODID:-//SportPlan//Event Calendar//EN
CALSCALE:GREGORIAN
BEGIN:VEVENT
UID:0428c2a8-28a9-4ce7-b5c0-77d35b935cbe@sportplan.local
DTSTAMP:20260425T193644Z
DTSTART;VALUE=DATE:20260425
DTEND;VALUE=DATE:20260426
SUMMARY:Ballarat Marathon
DESCRIPTION:Official Ballarat Marathon race-weekend site for 25-26 April 2026 in Ballarat\, Victoria. The organizer states the marathon and half marathon are sold out while 10K\, 5K and Mile places remain\, confirming a live amateur-enterable road-running festival.
LOCATION:Ballarat\, Victoria\, Australia
URL:https://sportplan.vercel.app/da/events/ballarat-marathon-2026-04-25
END:VEVENT
END:VCALENDAR
