BEGIN:VCALENDAR
VERSION:2.0
PRODID:-//SportPlan//Event Calendar//EN
CALSCALE:GREGORIAN
BEGIN:VEVENT
UID:b571d7f2-997e-4355-abc9-aa39c3ac5ae3@sportplan.local
DTSTAMP:20260425T200313Z
DTSTART;VALUE=DATE:20260301
DTEND;VALUE=DATE:20260302
SUMMARY:Artxanda Urban Trail (12K)
DESCRIPTION:Artxanda Urban Trail (12K) is the short-course race in the Artxanda Urban Trail 2026 program in Bilbao on 1 March 2026. The official organizer site lists the Trail Corto route on Sunday 1 March at 10:30 with 12\,000 m and 550 m of elevation gain\, and the same official event family page is the participant-facing source for race logistics and registration.
LOCATION:bilbao\, Vizcaya\, País Vasco
URL:https://sportplan.vercel.app/da/events/artxanda-urban-trail-12k-bilbao-2026-03-01-12k
END:VEVENT
END:VCALENDAR
