BEGIN:VCALENDAR
VERSION:2.0
PRODID:-//SportPlan//Event Calendar//EN
CALSCALE:GREGORIAN
BEGIN:VEVENT
UID:7114000b-65b6-4b1c-9f68-9980600ab3e2@sportplan.local
DTSTAMP:20260425T194611Z
DTSTART;VALUE=DATE:20260425
DTEND;VALUE=DATE:20260428
SUMMARY:Argelès Nature Trail
DESCRIPTION:Argelès Nature Trail a lieu le 25 de avril de 2026 à Argelès-sur-Mer. C'est un rendez-vous intéressant pour les participants à la recherche d'un événement bien organisé dans un cadre agréable. Le parcours couvre environ 20 km. Consultez les informations officielles de l'organisateur pour les horaires\, le retrait des dossards et les détails logistiques.
LOCATION:Argelès-sur-Mer
URL:https://sportplan.vercel.app/da/events/argeles-nature-trail-argeles-sur-mer-2026-04-25
END:VEVENT
END:VCALENDAR
