BEGIN:VCALENDAR
VERSION:2.0
PRODID:-//SportPlan//Event Calendar//EN
CALSCALE:GREGORIAN
BEGIN:VEVENT
UID:20b60bbc-49d5-48c0-af37-32c7a68a8a9e@sportplan.local
DTSTAMP:20260425T211754Z
DTSTART;VALUE=DATE:20260524
DTEND;VALUE=DATE:20260525
SUMMARY:Aquatlo de São João da Madeira
DESCRIPTION:Official Federação de Triatlo de Portugal event page for the 2026 Aquatlo de São João da Madeira. The page explicitly includes Prova Aberta and identifies the event within the northern calendar as an official amateur participation event.
LOCATION:São João da Madeira\, Aveiro\, Portugal
URL:https://sportplan.vercel.app/da/events/aquatlo-de-sao-joao-da-madeira
END:VEVENT
END:VCALENDAR
