BEGIN:VCALENDAR
VERSION:2.0
PRODID:-//SportPlan//Event Calendar//EN
CALSCALE:GREGORIAN
BEGIN:VEVENT
UID:042055f9-0cba-4c7a-8582-c79b0c066401@sportplan.local
DTSTAMP:20260425T213003Z
DTSTART;VALUE=DATE:20260501
DTEND;VALUE=DATE:20260502
SUMMARY:Aqua'Vive (24)
DESCRIPTION:Official FFTRI/T2Area fiche lists Aqua'Vive (24) in SAINT-MARTIAL-DE-VALETTE on 2026-05-01 with Aquathlon Jeunes 1\, Aquathlon Jeunes 2\, Aquathlon XS Jeunes\, Aquathlon S Jeunes\, Aquathlon xs\, Aquathlon s formats.
LOCATION:SAINT-MARTIAL-DE-VALETTE\, Nouvelle-Aquitaine
URL:https://sportplan.vercel.app/da/events/aqua-vive-24-saint-martial-de-valette-2026-05-01
END:VEVENT
END:VCALENDAR
