BEGIN:VCALENDAR
VERSION:2.0
PRODID:-//SportPlan//Event Calendar//EN
CALSCALE:GREGORIAN
BEGIN:VEVENT
UID:27746d52-17c4-4451-8786-f9cfa044dba0@sportplan.local
DTSTAMP:20260426T011347Z
DTSTART;VALUE=DATE:20261018
DTEND;VALUE=DATE:20261019
SUMMARY:Amsterdam Marathon 2026
DESCRIPTION:Amsterdam Marathon 2026 is the official TCS Amsterdam Marathon on 18 October 2026 in Amsterdam. The organiser-owned site presents the Dutch marathon weekend on the official event domain for one of the world’s best-known mass-participation road races\, with the canonical event home kept separate from third-party calendar duplicates.
LOCATION:Amsterdam\, North Holland
URL:https://sportplan.vercel.app/da/events/amsterdam-marathon-2026-amsterdam-2026-10-18
END:VEVENT
END:VCALENDAR
