BEGIN:VCALENDAR
VERSION:2.0
PRODID:-//SportPlan//Event Calendar//EN
CALSCALE:GREGORIAN
BEGIN:VEVENT
UID:eca88511-71d4-4fc5-8f16-eb07b3f2c4eb@sportplan.local
DTSTAMP:20260425T233146Z
DTSTART;VALUE=DATE:20260711
DTEND;VALUE=DATE:20260712
SUMMARY:5150 Desaru Coast
DESCRIPTION:Experience 5150 Desaru Coast: a 1.5km swim on the beachfront\, 40km bike ride towards Desaru Coast Riverside and mostly flat 10km run around The Els Club Desaru Coast.
LOCATION:Desaru\, Malaysia
URL:https://sportplan.vercel.app/da/events/5150-desaru-coast-2026-07-11
END:VEVENT
END:VCALENDAR
