BEGIN:VCALENDAR
VERSION:2.0
PRODID:-//SportPlan//Event Calendar//EN
CALSCALE:GREGORIAN
BEGIN:VEVENT
UID:d29c2cc7-913d-46df-a2b1-31667814c382@sportplan.local
DTSTAMP:20260425T214337Z
DTSTART;VALUE=DATE:20260426
DTEND;VALUE=DATE:20260427
SUMMARY:3a Aleixar Trail 2026 — Trail 15K 15K
DESCRIPTION:La 3a Aleixar Trail se celebrará el 26 de abril de 2026 en L'Aleixar\, organizada por el Club Excursionista L'Aleixar con apoyo del ayuntamiento y soporte técnico de Tretzesports. La página oficial describe este trail largo como el recorrido exigente del evento\, con unos 15 km y 700 m de desnivel positivo.
LOCATION:Aleixar (L&#039\;)
URL:https://sportplan.vercel.app/da/events/3a-aleixar-trail-2026-trail-15k-15k-aleixar-l-039-2026-04-26
END:VEVENT
END:VCALENDAR
