BEGIN:VCALENDAR
VERSION:2.0
PRODID:-//SportPlan//Event Calendar//EN
CALSCALE:GREGORIAN
BEGIN:VEVENT
UID:2469e84e-543f-40dc-8fd3-59f198280586@sportplan.local
DTSTAMP:20260425T233258Z
DTSTART;VALUE=DATE:20260531
DTEND;VALUE=DATE:20260601
SUMMARY:20km de Bruxelles 2026
DESCRIPTION:20km de Bruxelles 2026 est une épreuve prévue le 2026-05-31 à Brussels\, Brussels. C'est un bon choix pour les participants qui recherchent un rendez-vous sportif bien organisé\, avec un parcours de 20 km. L'événement convient aussi bien aux habitués qu'aux personnes qui veulent découvrir une nouvelle course.
LOCATION:Brussels\, Brussels
URL:https://sportplan.vercel.app/da/events/20km-de-bruxelles-2026-brussels-2026-05-31
END:VEVENT
END:VCALENDAR
