BEGIN:VCALENDAR
VERSION:2.0
PRODID:-//SportPlan//Event Calendar//EN
CALSCALE:GREGORIAN
BEGIN:VEVENT
UID:26d78bbf-1326-4998-b0f6-558016260835@sportplan.local
DTSTAMP:20260425T232353Z
DTSTART;VALUE=DATE:20261010
DTEND;VALUE=DATE:20261011
SUMMARY:2026 Wollongong Spartan Stadion
DESCRIPTION:2026 Wollongong Spartan Stadion is an official Spartan Australia obstacle-course race at WIN Stadium in Wollongong\, New South Wales on 10 October 2026. The official Spartan Australia race page describes a 5 km stadion-style obstacle race through the stadium bleachers overlooking City Beach.
LOCATION:WIN Stadium\, Wollongong
URL:https://sportplan.vercel.app/da/events/2026-wollongong-spartan-stadion-wollongong-2026-10-10
END:VEVENT
END:VCALENDAR
