BEGIN:VCALENDAR
VERSION:2.0
PRODID:-//SportPlan//Event Calendar//EN
CALSCALE:GREGORIAN
BEGIN:VEVENT
UID:a0d66a23-075f-4721-906b-2bf856d89e06@sportplan.local
DTSTAMP:20260426T031010Z
DTSTART;VALUE=DATE:20261121
DTEND;VALUE=DATE:20261123
SUMMARY:2026 Lakes Entrance Spartan Ultra Trifecta Weekend
DESCRIPTION:2026 Lakes Entrance Spartan Ultra Trifecta Weekend is an official Spartan Australia obstacle-course race weekend in Lakes Entrance\, Victoria on 21 to 22 November 2026. The official Spartan Australia race page promotes this as a new Spartan venue and a full weekend for open-entry OCR participants.
LOCATION:Lakes Entrance\, Victoria
URL:https://sportplan.vercel.app/da/events/2026-lakes-entrance-spartan-ultra-trifecta-weekend-lakes-entrance-2026-11-21
END:VEVENT
END:VCALENDAR
