BEGIN:VCALENDAR
VERSION:2.0
PRODID:-//SportPlan//Event Calendar//EN
CALSCALE:GREGORIAN
BEGIN:VEVENT
UID:e7f3e8fe-74cf-46c7-9559-5a013126b8f0@sportplan.local
DTSTAMP:20260425T194740Z
DTSTART;VALUE=DATE:20260523
DTEND;VALUE=DATE:20260525
SUMMARY:2026 Ivory's Rock Spartan Trifecta Weekend
DESCRIPTION:2026 Ivory's Rock Spartan Trifecta Weekend is an official Spartan Australia obstacle-course race weekend at Ivory's Rock in Peak Crossing\, Queensland on 23 to 24 May 2026. The official regional race page lists the 2026 weekend on Spartan's participant-facing Australia calendar and describes a rugged OCR venue for open-entry racers.
LOCATION:Ivory's Rock\, Peak Crossing
URL:https://sportplan.vercel.app/da/events/2026-ivory-s-rock-spartan-trifecta-weekend-peak-crossing-2026-05-23
END:VEVENT
END:VCALENDAR
