BEGIN:VCALENDAR
VERSION:2.0
PRODID:-//SportPlan//Event Calendar//EN
CALSCALE:GREGORIAN
BEGIN:VEVENT
UID:8ca2ec88-0178-4ea6-9f62-5e33688620e8@sportplan.local
DTSTAMP:20260425T200058Z
DTSTART;VALUE=DATE:20260104
DTEND;VALUE=DATE:20261208
SUMMARY:2 Miles Sri Chinmoy
DESCRIPTION:Official Sri Chinmoy Marathon Team France 2 Miles page for the recurring Paris 2 Miles Sri Chinmoy race series at Bois de Vincennes. The organizer-owned page publishes practical information and race details for this amateur-enterable Paris running event.
LOCATION:Paris
URL:https://sportplan.vercel.app/da/events/2-miles-sri-chinmoy-paris-2026-01-04
END:VEVENT
END:VCALENDAR
