BEGIN:VCALENDAR
VERSION:2.0
PRODID:-//SportPlan//Event Calendar//EN
CALSCALE:GREGORIAN
BEGIN:VEVENT
UID:dcec6353-0503-4ad6-bc55-91084ad5e777@sportplan.local
DTSTAMP:20260425T194353Z
DTSTART;VALUE=DATE:20260425
DTEND;VALUE=DATE:20260426
SUMMARY:2ª Lemtbo 2026: Trofeo Imperdible
DESCRIPTION:Página oficial FEMADO para la liga MTBO de Valdelatas (Madrid)\, prevista para el 25 y 26 de abril de 2026. El boletín oficial describe competición en formato sprint y recorridos de bosque en Valdelatas\, organizada por los clubes Imperdible y Monte El Pardo.
LOCATION:Valdelatas
URL:https://sportplan.vercel.app/da/events/2-lemtbo-2026-trofeo-imperdible
END:VEVENT
END:VCALENDAR
