BEGIN:VCALENDAR
VERSION:2.0
PRODID:-//SportPlan//Event Calendar//EN
CALSCALE:GREGORIAN
BEGIN:VEVENT
UID:d0522006-dd9f-4810-abbe-4455b798c461@sportplan.local
DTSTAMP:20260425T193946Z
DTSTART;VALUE=DATE:20260425
DTEND;VALUE=DATE:20260426
SUMMARY:1904 Ride
DESCRIPTION:1904 Ride is Chapter 2 of the official Big River Gravel Series on 25 April 2026 in Fenton\, Illinois. The organizer describes it as a gravel-cycling event with a roughly 50/50 mix of pavement and gravel where strategy\, patience and finding the right group matter as much as strength\, and the official page links riders to BikeReg registration for the 1904.
LOCATION:Fenton\, Illinois
URL:https://sportplan.vercel.app/da/events/1904-ride-illinois-city-2026-04-25
END:VEVENT
END:VCALENDAR
